BEGIN:VCALENDAR
VERSION:2.0
PRODID:-//Town of Jackson, Burnett County, Wisconsin - ECPv6.15.17.1//NONSGML v1.0//EN
CALSCALE:GREGORIAN
METHOD:PUBLISH
X-WR-CALNAME:Town of Jackson, Burnett County, Wisconsin
X-ORIGINAL-URL:https://townofjacksonwi.com
X-WR-CALDESC:Events for Town of Jackson, Burnett County, Wisconsin
REFRESH-INTERVAL;VALUE=DURATION:PT1H
X-Robots-Tag:noindex
X-PUBLISHED-TTL:PT1H
BEGIN:VTIMEZONE
TZID:America/Chicago
BEGIN:DAYLIGHT
TZOFFSETFROM:-0600
TZOFFSETTO:-0500
TZNAME:CDT
DTSTART:20150308T080000
END:DAYLIGHT
BEGIN:STANDARD
TZOFFSETFROM:-0500
TZOFFSETTO:-0600
TZNAME:CST
DTSTART:20151101T070000
END:STANDARD
BEGIN:DAYLIGHT
TZOFFSETFROM:-0600
TZOFFSETTO:-0500
TZNAME:CDT
DTSTART:20160313T080000
END:DAYLIGHT
BEGIN:STANDARD
TZOFFSETFROM:-0500
TZOFFSETTO:-0600
TZNAME:CST
DTSTART:20161106T070000
END:STANDARD
BEGIN:DAYLIGHT
TZOFFSETFROM:-0600
TZOFFSETTO:-0500
TZNAME:CDT
DTSTART:20170312T080000
END:DAYLIGHT
BEGIN:STANDARD
TZOFFSETFROM:-0500
TZOFFSETTO:-0600
TZNAME:CST
DTSTART:20171105T070000
END:STANDARD
BEGIN:DAYLIGHT
TZOFFSETFROM:-0600
TZOFFSETTO:-0500
TZNAME:CDT
DTSTART:20180311T080000
END:DAYLIGHT
BEGIN:STANDARD
TZOFFSETFROM:-0500
TZOFFSETTO:-0600
TZNAME:CST
DTSTART:20181104T070000
END:STANDARD
BEGIN:DAYLIGHT
TZOFFSETFROM:-0600
TZOFFSETTO:-0500
TZNAME:CDT
DTSTART:20190310T080000
END:DAYLIGHT
BEGIN:STANDARD
TZOFFSETFROM:-0500
TZOFFSETTO:-0600
TZNAME:CST
DTSTART:20191103T070000
END:STANDARD
END:VTIMEZONE
BEGIN:VEVENT
DTSTART;TZID=America/Chicago:20180409T190000
DTEND;TZID=America/Chicago:20180409T190000
DTSTAMP:20260422T175920
CREATED:20130115T010000Z
LAST-MODIFIED:20180529T170620Z
UID:10000356-1523300400-1523300400@townofjacksonwi.com
SUMMARY:Town Board Meeting
DESCRIPTION:
URL:https://townofjacksonwi.com/event/town-board-meeting/2018-04-09/
CATEGORIES:Town Board
END:VEVENT
BEGIN:VEVENT
DTSTART;TZID=America/Chicago:20180312T190000
DTEND;TZID=America/Chicago:20180312T190000
DTSTAMP:20260422T175920
CREATED:20130115T010000Z
LAST-MODIFIED:20180529T170620Z
UID:10000355-1520881200-1520881200@townofjacksonwi.com
SUMMARY:Town Board Meeting
DESCRIPTION:
URL:https://townofjacksonwi.com/event/town-board-meeting/2018-03-12/
CATEGORIES:Town Board
END:VEVENT
BEGIN:VEVENT
DTSTART;TZID=America/Chicago:20180212T190000
DTEND;TZID=America/Chicago:20180212T190000
DTSTAMP:20260422T175920
CREATED:20130115T010000Z
LAST-MODIFIED:20180529T170620Z
UID:10000354-1518462000-1518462000@townofjacksonwi.com
SUMMARY:Town Board Meeting
DESCRIPTION:
URL:https://townofjacksonwi.com/event/town-board-meeting/2018-02-12/
CATEGORIES:Town Board
END:VEVENT
BEGIN:VEVENT
DTSTART;TZID=America/Chicago:20180127T110000
DTEND;TZID=America/Chicago:20180127T130000
DTSTAMP:20260422T175920
CREATED:20180127T170000Z
LAST-MODIFIED:20180127T170000Z
UID:10000946-1517050800-1517058000@townofjacksonwi.com
SUMMARY:Treasurer's Office Hours
DESCRIPTION:For Payment of Taxes
URL:https://townofjacksonwi.com/event/treasurers-office-hours/
CATEGORIES:Town Board
END:VEVENT
BEGIN:VEVENT
DTSTART;TZID=America/Chicago:20180108T190000
DTEND;TZID=America/Chicago:20180108T190000
DTSTAMP:20260422T175920
CREATED:20130115T010000Z
LAST-MODIFIED:20180529T170620Z
UID:10000353-1515438000-1515438000@townofjacksonwi.com
SUMMARY:Town Board Meeting
DESCRIPTION:
URL:https://townofjacksonwi.com/event/town-board-meeting/2018-01-08/
CATEGORIES:Town Board
END:VEVENT
BEGIN:VEVENT
DTSTART;TZID=America/Chicago:20180108T173000
DTEND;TZID=America/Chicago:20180108T190000
DTSTAMP:20260422T175920
CREATED:20180108T233000Z
LAST-MODIFIED:20180108T233000Z
UID:10000943-1515432600-1515438000@townofjacksonwi.com
SUMMARY:Treasurer's Office Hours
DESCRIPTION:For Payment of Taxes
URL:https://townofjacksonwi.com/event/treasurers-office-hours-2/
CATEGORIES:Town Board
END:VEVENT
BEGIN:VEVENT
DTSTART;TZID=America/Chicago:20171230T090000
DTEND;TZID=America/Chicago:20171230T110000
DTSTAMP:20260422T175920
CREATED:20171230T150000Z
LAST-MODIFIED:20171230T150000Z
UID:10000942-1514624400-1514631600@townofjacksonwi.com
SUMMARY:Treasurer's Office Hours
DESCRIPTION:The town treasurer will be available on this date from 9AM-11AM for payment of taxes
URL:https://townofjacksonwi.com/event/treasurers-office-hours-3/
CATEGORIES:Town Board
END:VEVENT
BEGIN:VEVENT
DTSTART;TZID=America/Chicago:20171211T190000
DTEND;TZID=America/Chicago:20171211T190000
DTSTAMP:20260422T175920
CREATED:20130115T010000Z
LAST-MODIFIED:20180529T170620Z
UID:10000352-1513018800-1513018800@townofjacksonwi.com
SUMMARY:Town Board Meeting
DESCRIPTION:
URL:https://townofjacksonwi.com/event/town-board-meeting/2017-12-11/
CATEGORIES:Town Board
END:VEVENT
BEGIN:VEVENT
DTSTART;TZID=America/Chicago:20171113T190000
DTEND;TZID=America/Chicago:20171113T190000
DTSTAMP:20260422T175920
CREATED:20130115T010000Z
LAST-MODIFIED:20180529T170620Z
UID:10000351-1510599600-1510599600@townofjacksonwi.com
SUMMARY:Town Board Meeting
DESCRIPTION:
URL:https://townofjacksonwi.com/event/town-board-meeting/2017-11-13/
CATEGORIES:Town Board
END:VEVENT
BEGIN:VEVENT
DTSTART;TZID=America/Chicago:20171009T190000
DTEND;TZID=America/Chicago:20171009T190000
DTSTAMP:20260422T175920
CREATED:20130115T010000Z
LAST-MODIFIED:20180529T170620Z
UID:10000350-1507575600-1507575600@townofjacksonwi.com
SUMMARY:Town Board Meeting
DESCRIPTION:
URL:https://townofjacksonwi.com/event/town-board-meeting/2017-10-09/
CATEGORIES:Town Board
END:VEVENT
BEGIN:VEVENT
DTSTART;TZID=America/Chicago:20170911T190000
DTEND;TZID=America/Chicago:20170911T190000
DTSTAMP:20260422T175920
CREATED:20130115T010000Z
LAST-MODIFIED:20180529T170620Z
UID:10000349-1505156400-1505156400@townofjacksonwi.com
SUMMARY:Town Board Meeting
DESCRIPTION:
URL:https://townofjacksonwi.com/event/town-board-meeting/2017-09-11/
CATEGORIES:Town Board
END:VEVENT
BEGIN:VEVENT
DTSTART;TZID=America/Chicago:20170814T190000
DTEND;TZID=America/Chicago:20170814T190000
DTSTAMP:20260422T175920
CREATED:20130115T010000Z
LAST-MODIFIED:20180529T170620Z
UID:10000348-1502737200-1502737200@townofjacksonwi.com
SUMMARY:Town Board Meeting
DESCRIPTION:
URL:https://townofjacksonwi.com/event/town-board-meeting/2017-08-14/
CATEGORIES:Town Board
END:VEVENT
BEGIN:VEVENT
DTSTART;TZID=America/Chicago:20170710T190000
DTEND;TZID=America/Chicago:20170710T190000
DTSTAMP:20260422T175920
CREATED:20130115T010000Z
LAST-MODIFIED:20180529T170620Z
UID:10000347-1499713200-1499713200@townofjacksonwi.com
SUMMARY:Town Board Meeting
DESCRIPTION:
URL:https://townofjacksonwi.com/event/town-board-meeting/2017-07-10/
CATEGORIES:Town Board
END:VEVENT
BEGIN:VEVENT
DTSTART;TZID=America/Chicago:20170612T190000
DTEND;TZID=America/Chicago:20170612T190000
DTSTAMP:20260422T175920
CREATED:20130115T010000Z
LAST-MODIFIED:20180529T170620Z
UID:10000346-1497294000-1497294000@townofjacksonwi.com
SUMMARY:Town Board Meeting
DESCRIPTION:
URL:https://townofjacksonwi.com/event/town-board-meeting/2017-06-12/
CATEGORIES:Town Board
END:VEVENT
BEGIN:VEVENT
DTSTART;TZID=America/Chicago:20170508T190000
DTEND;TZID=America/Chicago:20170508T190000
DTSTAMP:20260422T175920
CREATED:20130115T010000Z
LAST-MODIFIED:20180529T170620Z
UID:10000345-1494270000-1494270000@townofjacksonwi.com
SUMMARY:Town Board Meeting
DESCRIPTION:
URL:https://townofjacksonwi.com/event/town-board-meeting/2017-05-08/
CATEGORIES:Town Board
END:VEVENT
BEGIN:VEVENT
DTSTART;TZID=America/Chicago:20170424T190000
DTEND;TZID=America/Chicago:20170424T200000
DTSTAMP:20260422T175920
CREATED:20170425T000000Z
LAST-MODIFIED:20170425T000000Z
UID:10000007-1493060400-1493064000@townofjacksonwi.com
SUMMARY:Annual Town Meeting
DESCRIPTION:
URL:https://townofjacksonwi.com/event/annual-town-meeting/
CATEGORIES:Town Board
END:VEVENT
BEGIN:VEVENT
DTSTART;TZID=America/Chicago:20170410T190000
DTEND;TZID=America/Chicago:20170410T190000
DTSTAMP:20260422T175920
CREATED:20130115T010000Z
LAST-MODIFIED:20180529T170620Z
UID:10000344-1491850800-1491850800@townofjacksonwi.com
SUMMARY:Town Board Meeting
DESCRIPTION:
URL:https://townofjacksonwi.com/event/town-board-meeting/2017-04-10/
CATEGORIES:Town Board
END:VEVENT
BEGIN:VEVENT
DTSTART;TZID=America/Chicago:20170313T190000
DTEND;TZID=America/Chicago:20170313T190000
DTSTAMP:20260422T175920
CREATED:20130115T010000Z
LAST-MODIFIED:20180529T170620Z
UID:10000343-1489431600-1489431600@townofjacksonwi.com
SUMMARY:Town Board Meeting
DESCRIPTION:
URL:https://townofjacksonwi.com/event/town-board-meeting/2017-03-13/
CATEGORIES:Town Board
END:VEVENT
BEGIN:VEVENT
DTSTART;TZID=America/Chicago:20170213T190000
DTEND;TZID=America/Chicago:20170213T190000
DTSTAMP:20260422T175920
CREATED:20130115T010000Z
LAST-MODIFIED:20180529T170620Z
UID:10000342-1487012400-1487012400@townofjacksonwi.com
SUMMARY:Town Board Meeting
DESCRIPTION:
URL:https://townofjacksonwi.com/event/town-board-meeting/2017-02-13/
CATEGORIES:Town Board
END:VEVENT
BEGIN:VEVENT
DTSTART;TZID=America/Chicago:20170109T190000
DTEND;TZID=America/Chicago:20170109T190000
DTSTAMP:20260422T175920
CREATED:20130115T010000Z
LAST-MODIFIED:20180529T170620Z
UID:10000341-1483988400-1483988400@townofjacksonwi.com
SUMMARY:Town Board Meeting
DESCRIPTION:
URL:https://townofjacksonwi.com/event/town-board-meeting/2017-01-09/
CATEGORIES:Town Board
END:VEVENT
BEGIN:VEVENT
DTSTART;TZID=America/Chicago:20161212T190000
DTEND;TZID=America/Chicago:20161212T190000
DTSTAMP:20260422T175920
CREATED:20130115T010000Z
LAST-MODIFIED:20180529T170620Z
UID:10000340-1481569200-1481569200@townofjacksonwi.com
SUMMARY:Town Board Meeting
DESCRIPTION:
URL:https://townofjacksonwi.com/event/town-board-meeting/2016-12-12/
CATEGORIES:Town Board
END:VEVENT
BEGIN:VEVENT
DTSTART;TZID=America/Chicago:20161114T190000
DTEND;TZID=America/Chicago:20161114T190000
DTSTAMP:20260422T175920
CREATED:20130115T010000Z
LAST-MODIFIED:20180529T170620Z
UID:10000339-1479150000-1479150000@townofjacksonwi.com
SUMMARY:Town Board Meeting
DESCRIPTION:
URL:https://townofjacksonwi.com/event/town-board-meeting/2016-11-14/
CATEGORIES:Town Board
END:VEVENT
BEGIN:VEVENT
DTSTART;TZID=America/Chicago:20161010T190000
DTEND;TZID=America/Chicago:20161010T190000
DTSTAMP:20260422T175920
CREATED:20130115T010000Z
LAST-MODIFIED:20180529T170620Z
UID:10000338-1476126000-1476126000@townofjacksonwi.com
SUMMARY:Town Board Meeting
DESCRIPTION:
URL:https://townofjacksonwi.com/event/town-board-meeting/2016-10-10/
CATEGORIES:Town Board
END:VEVENT
BEGIN:VEVENT
DTSTART;TZID=America/Chicago:20160912T190000
DTEND;TZID=America/Chicago:20160912T190000
DTSTAMP:20260422T175920
CREATED:20130115T010000Z
LAST-MODIFIED:20180529T170620Z
UID:10000337-1473706800-1473706800@townofjacksonwi.com
SUMMARY:Town Board Meeting
DESCRIPTION:
URL:https://townofjacksonwi.com/event/town-board-meeting/2016-09-12/
CATEGORIES:Town Board
END:VEVENT
BEGIN:VEVENT
DTSTART;TZID=America/Chicago:20160808T190000
DTEND;TZID=America/Chicago:20160808T190000
DTSTAMP:20260422T175920
CREATED:20130115T010000Z
LAST-MODIFIED:20180529T170620Z
UID:10000336-1470682800-1470682800@townofjacksonwi.com
SUMMARY:Town Board Meeting
DESCRIPTION:
URL:https://townofjacksonwi.com/event/town-board-meeting/2016-08-08/
CATEGORIES:Town Board
END:VEVENT
BEGIN:VEVENT
DTSTART;TZID=America/Chicago:20160711T190000
DTEND;TZID=America/Chicago:20160711T190000
DTSTAMP:20260422T175920
CREATED:20130115T010000Z
LAST-MODIFIED:20180529T170620Z
UID:10000335-1468263600-1468263600@townofjacksonwi.com
SUMMARY:Town Board Meeting
DESCRIPTION:
URL:https://townofjacksonwi.com/event/town-board-meeting/2016-07-11/
CATEGORIES:Town Board
END:VEVENT
BEGIN:VEVENT
DTSTART;TZID=America/Chicago:20160613T190000
DTEND;TZID=America/Chicago:20160613T190000
DTSTAMP:20260422T175920
CREATED:20130115T010000Z
LAST-MODIFIED:20180529T170620Z
UID:10000334-1465844400-1465844400@townofjacksonwi.com
SUMMARY:Town Board Meeting
DESCRIPTION:
URL:https://townofjacksonwi.com/event/town-board-meeting/2016-06-13/
CATEGORIES:Town Board
END:VEVENT
BEGIN:VEVENT
DTSTART;TZID=America/Chicago:20160526T160000
DTEND;TZID=America/Chicago:20160526T180000
DTSTAMP:20260422T175920
CREATED:20160526T210000Z
LAST-MODIFIED:20160526T210000Z
UID:10000937-1464278400-1464285600@townofjacksonwi.com
SUMMARY:Board of Review
DESCRIPTION:Venue: Town Hall
URL:https://townofjacksonwi.com/event/board-of-review-2/
CATEGORIES:Town Board
END:VEVENT
BEGIN:VEVENT
DTSTART;TZID=America/Chicago:20160526T140000
DTEND;TZID=America/Chicago:20160526T160000
DTSTAMP:20260422T175920
CREATED:20160526T190000Z
LAST-MODIFIED:20160526T190000Z
UID:10000256-1464271200-1464278400@townofjacksonwi.com
SUMMARY:Open Book
DESCRIPTION:Venue: Town Hall
URL:https://townofjacksonwi.com/event/open-book-2/
CATEGORIES:Town Board
END:VEVENT
BEGIN:VEVENT
DTSTART;TZID=America/Chicago:20160509T190000
DTEND;TZID=America/Chicago:20160509T190000
DTSTAMP:20260422T175920
CREATED:20130115T010000Z
LAST-MODIFIED:20180529T170620Z
UID:10000333-1462820400-1462820400@townofjacksonwi.com
SUMMARY:Town Board Meeting
DESCRIPTION:
URL:https://townofjacksonwi.com/event/town-board-meeting/2016-05-09/
CATEGORIES:Town Board
END:VEVENT
END:VCALENDAR