BEGIN:VCALENDAR
VERSION:2.0
PRODID:-//Town of Jackson, Burnett County, Wisconsin - ECPv6.15.17.1//NONSGML v1.0//EN
CALSCALE:GREGORIAN
METHOD:PUBLISH
X-WR-CALNAME:Town of Jackson, Burnett County, Wisconsin
X-ORIGINAL-URL:https://townofjacksonwi.com
X-WR-CALDESC:Events for Town of Jackson, Burnett County, Wisconsin
REFRESH-INTERVAL;VALUE=DURATION:PT1H
X-Robots-Tag:noindex
X-PUBLISHED-TTL:PT1H
BEGIN:VTIMEZONE
TZID:America/Chicago
BEGIN:DAYLIGHT
TZOFFSETFROM:-0600
TZOFFSETTO:-0500
TZNAME:CDT
DTSTART:20120311T080000
END:DAYLIGHT
BEGIN:STANDARD
TZOFFSETFROM:-0500
TZOFFSETTO:-0600
TZNAME:CST
DTSTART:20121104T070000
END:STANDARD
BEGIN:DAYLIGHT
TZOFFSETFROM:-0600
TZOFFSETTO:-0500
TZNAME:CDT
DTSTART:20130310T080000
END:DAYLIGHT
BEGIN:STANDARD
TZOFFSETFROM:-0500
TZOFFSETTO:-0600
TZNAME:CST
DTSTART:20131103T070000
END:STANDARD
BEGIN:DAYLIGHT
TZOFFSETFROM:-0600
TZOFFSETTO:-0500
TZNAME:CDT
DTSTART:20140309T080000
END:DAYLIGHT
BEGIN:STANDARD
TZOFFSETFROM:-0500
TZOFFSETTO:-0600
TZNAME:CST
DTSTART:20141102T070000
END:STANDARD
END:VTIMEZONE
BEGIN:VEVENT
DTSTART;TZID=America/Chicago:20130812T190000
DTEND;TZID=America/Chicago:20130812T190000
DTSTAMP:20260425T064018
CREATED:20130115T010000Z
LAST-MODIFIED:20180529T170620Z
UID:10000300-1376334000-1376334000@townofjacksonwi.com
SUMMARY:Town Board Meeting
DESCRIPTION:
URL:https://townofjacksonwi.com/event/town-board-meeting/2013-08-12/
CATEGORIES:Town Board
END:VEVENT
BEGIN:VEVENT
DTSTART;TZID=America/Chicago:20130708T190000
DTEND;TZID=America/Chicago:20130708T190000
DTSTAMP:20260425T064018
CREATED:20130115T010000Z
LAST-MODIFIED:20180529T170620Z
UID:10000299-1373310000-1373310000@townofjacksonwi.com
SUMMARY:Town Board Meeting
DESCRIPTION:
URL:https://townofjacksonwi.com/event/town-board-meeting/2013-07-08/
CATEGORIES:Town Board
END:VEVENT
BEGIN:VEVENT
DTSTART;TZID=America/Chicago:20130610T190000
DTEND;TZID=America/Chicago:20130610T190000
DTSTAMP:20260425T064018
CREATED:20130115T010000Z
LAST-MODIFIED:20180529T170620Z
UID:10000298-1370890800-1370890800@townofjacksonwi.com
SUMMARY:Town Board Meeting
DESCRIPTION:
URL:https://townofjacksonwi.com/event/town-board-meeting/2013-06-10/
CATEGORIES:Town Board
END:VEVENT
BEGIN:VEVENT
DTSTART;TZID=America/Chicago:20130531T170000
DTEND;TZID=America/Chicago:20130531T170000
DTSTAMP:20260425T064018
CREATED:20130531T220000Z
LAST-MODIFIED:20130531T220000Z
UID:10000285-1370019600-1370019600@townofjacksonwi.com
SUMMARY:Board of Review
DESCRIPTION:
URL:https://townofjacksonwi.com/event/board-of-review-4/
CATEGORIES:Town Board
END:VEVENT
BEGIN:VEVENT
DTSTART;TZID=America/Chicago:20130531T150000
DTEND;TZID=America/Chicago:20130531T150000
DTSTAMP:20260425T064018
CREATED:20130531T200000Z
LAST-MODIFIED:20130531T200000Z
UID:10000284-1370012400-1370012400@townofjacksonwi.com
SUMMARY:Open Book
DESCRIPTION:
URL:https://townofjacksonwi.com/event/open-book-4/
CATEGORIES:Town Board
END:VEVENT
BEGIN:VEVENT
DTSTART;TZID=America/Chicago:20130513T190000
DTEND;TZID=America/Chicago:20130513T190000
DTSTAMP:20260425T064018
CREATED:20130115T010000Z
LAST-MODIFIED:20180529T170620Z
UID:10000297-1368471600-1368471600@townofjacksonwi.com
SUMMARY:Town Board Meeting
DESCRIPTION:
URL:https://townofjacksonwi.com/event/town-board-meeting/2013-05-13/
CATEGORIES:Town Board
END:VEVENT
BEGIN:VEVENT
DTSTART;TZID=America/Chicago:20130422T190000
DTEND;TZID=America/Chicago:20130422T190000
DTSTAMP:20260425T064018
CREATED:20130423T000000Z
LAST-MODIFIED:20130423T000000Z
UID:10000290-1366657200-1366657200@townofjacksonwi.com
SUMMARY:Annual Town Meeting
DESCRIPTION:
URL:https://townofjacksonwi.com/event/annual-town-meeting-5/
CATEGORIES:Town Board
END:VEVENT
BEGIN:VEVENT
DTSTART;TZID=America/Chicago:20130408T190000
DTEND;TZID=America/Chicago:20130408T190000
DTSTAMP:20260425T064018
CREATED:20130115T010000Z
LAST-MODIFIED:20180529T170620Z
UID:10000296-1365447600-1365447600@townofjacksonwi.com
SUMMARY:Town Board Meeting
DESCRIPTION:
URL:https://townofjacksonwi.com/event/town-board-meeting/2013-04-08/
CATEGORIES:Town Board
END:VEVENT
BEGIN:VEVENT
DTSTART;TZID=America/Chicago:20130311T190000
DTEND;TZID=America/Chicago:20130311T190000
DTSTAMP:20260425T064018
CREATED:20130115T010000Z
LAST-MODIFIED:20180529T170620Z
UID:10000295-1363028400-1363028400@townofjacksonwi.com
SUMMARY:Town Board Meeting
DESCRIPTION:
URL:https://townofjacksonwi.com/event/town-board-meeting/2013-03-11/
CATEGORIES:Town Board
END:VEVENT
BEGIN:VEVENT
DTSTART;TZID=America/Chicago:20130211T190000
DTEND;TZID=America/Chicago:20130211T190000
DTSTAMP:20260425T064018
CREATED:20130115T010000Z
LAST-MODIFIED:20180529T170620Z
UID:10000294-1360609200-1360609200@townofjacksonwi.com
SUMMARY:Town Board Meeting
DESCRIPTION:
URL:https://townofjacksonwi.com/event/town-board-meeting/2013-02-11/
CATEGORIES:Town Board
END:VEVENT
BEGIN:VEVENT
DTSTART;TZID=America/Chicago:20130114T190000
DTEND;TZID=America/Chicago:20130114T190000
DTSTAMP:20260425T064018
CREATED:20130115T010000Z
LAST-MODIFIED:20180529T170620Z
UID:10000293-1358190000-1358190000@townofjacksonwi.com
SUMMARY:Town Board Meeting
DESCRIPTION:
URL:https://townofjacksonwi.com/event/town-board-meeting/2013-01-14/
CATEGORIES:Town Board
END:VEVENT
BEGIN:VEVENT
DTSTART;TZID=America/Chicago:20130114T183000
DTEND;TZID=America/Chicago:20130114T183000
DTSTAMP:20260425T064018
CREATED:20130115T003000Z
LAST-MODIFIED:20130115T003000Z
UID:10000262-1358188200-1358188200@townofjacksonwi.com
SUMMARY:Town Caucus
DESCRIPTION:
URL:https://townofjacksonwi.com/event/town-caucus-2/
CATEGORIES:Town Board
END:VEVENT
END:VCALENDAR