BEGIN:VCALENDAR
VERSION:2.0
PRODID:-//Town of Jackson, Burnett County, Wisconsin - ECPv6.15.17.1//NONSGML v1.0//EN
CALSCALE:GREGORIAN
METHOD:PUBLISH
X-WR-CALNAME:Town of Jackson, Burnett County, Wisconsin
X-ORIGINAL-URL:https://townofjacksonwi.com
X-WR-CALDESC:Events for Town of Jackson, Burnett County, Wisconsin
REFRESH-INTERVAL;VALUE=DURATION:PT1H
X-Robots-Tag:noindex
X-PUBLISHED-TTL:PT1H
BEGIN:VTIMEZONE
TZID:America/Chicago
BEGIN:DAYLIGHT
TZOFFSETFROM:-0600
TZOFFSETTO:-0500
TZNAME:CDT
DTSTART:20120311T080000
END:DAYLIGHT
BEGIN:STANDARD
TZOFFSETFROM:-0500
TZOFFSETTO:-0600
TZNAME:CST
DTSTART:20121104T070000
END:STANDARD
BEGIN:DAYLIGHT
TZOFFSETFROM:-0600
TZOFFSETTO:-0500
TZNAME:CDT
DTSTART:20130310T080000
END:DAYLIGHT
BEGIN:STANDARD
TZOFFSETFROM:-0500
TZOFFSETTO:-0600
TZNAME:CST
DTSTART:20131103T070000
END:STANDARD
BEGIN:DAYLIGHT
TZOFFSETFROM:-0600
TZOFFSETTO:-0500
TZNAME:CDT
DTSTART:20140309T080000
END:DAYLIGHT
BEGIN:STANDARD
TZOFFSETFROM:-0500
TZOFFSETTO:-0600
TZNAME:CST
DTSTART:20141102T070000
END:STANDARD
BEGIN:DAYLIGHT
TZOFFSETFROM:-0600
TZOFFSETTO:-0500
TZNAME:CDT
DTSTART:20150308T080000
END:DAYLIGHT
BEGIN:STANDARD
TZOFFSETFROM:-0500
TZOFFSETTO:-0600
TZNAME:CST
DTSTART:20151101T070000
END:STANDARD
BEGIN:DAYLIGHT
TZOFFSETFROM:-0600
TZOFFSETTO:-0500
TZNAME:CDT
DTSTART:20160313T080000
END:DAYLIGHT
BEGIN:STANDARD
TZOFFSETFROM:-0500
TZOFFSETTO:-0600
TZNAME:CST
DTSTART:20161106T070000
END:STANDARD
END:VTIMEZONE
BEGIN:VEVENT
DTSTART;TZID=America/Chicago:20150810T190000
DTEND;TZID=America/Chicago:20150810T190000
DTSTAMP:20260423T044224
CREATED:20130115T010000Z
LAST-MODIFIED:20180529T170620Z
UID:10000324-1439233200-1439233200@townofjacksonwi.com
SUMMARY:Town Board Meeting
DESCRIPTION:
URL:https://townofjacksonwi.com/event/town-board-meeting/2015-08-10/
CATEGORIES:Town Board
END:VEVENT
BEGIN:VEVENT
DTSTART;TZID=America/Chicago:20150713T190000
DTEND;TZID=America/Chicago:20150713T190000
DTSTAMP:20260423T044224
CREATED:20130115T010000Z
LAST-MODIFIED:20180529T170620Z
UID:10000323-1436814000-1436814000@townofjacksonwi.com
SUMMARY:Town Board Meeting
DESCRIPTION:
URL:https://townofjacksonwi.com/event/town-board-meeting/2015-07-13/
CATEGORIES:Town Board
END:VEVENT
BEGIN:VEVENT
DTSTART;TZID=America/Chicago:20150608T190000
DTEND;TZID=America/Chicago:20150608T190000
DTSTAMP:20260423T044224
CREATED:20130115T010000Z
LAST-MODIFIED:20180529T170620Z
UID:10000322-1433790000-1433790000@townofjacksonwi.com
SUMMARY:Town Board Meeting
DESCRIPTION:
URL:https://townofjacksonwi.com/event/town-board-meeting/2015-06-08/
CATEGORIES:Town Board
END:VEVENT
BEGIN:VEVENT
DTSTART;TZID=America/Chicago:20150511T190000
DTEND;TZID=America/Chicago:20150511T190000
DTSTAMP:20260423T044224
CREATED:20130115T010000Z
LAST-MODIFIED:20180529T170620Z
UID:10000321-1431370800-1431370800@townofjacksonwi.com
SUMMARY:Town Board Meeting
DESCRIPTION:
URL:https://townofjacksonwi.com/event/town-board-meeting/2015-05-11/
CATEGORIES:Town Board
END:VEVENT
BEGIN:VEVENT
DTSTART;TZID=America/Chicago:20150427T190000
DTEND;TZID=America/Chicago:20150427T190000
DTSTAMP:20260423T044224
CREATED:20150428T000000Z
LAST-MODIFIED:20150428T000000Z
UID:10000264-1430161200-1430161200@townofjacksonwi.com
SUMMARY:Annual Town Meeting
DESCRIPTION:Venue: Town Hall
URL:https://townofjacksonwi.com/event/annual-town-meeting-3/
CATEGORIES:Town Board
END:VEVENT
BEGIN:VEVENT
DTSTART;TZID=America/Chicago:20150413T190000
DTEND;TZID=America/Chicago:20150413T190000
DTSTAMP:20260423T044224
CREATED:20130115T010000Z
LAST-MODIFIED:20180529T170620Z
UID:10000320-1428951600-1428951600@townofjacksonwi.com
SUMMARY:Town Board Meeting
DESCRIPTION:
URL:https://townofjacksonwi.com/event/town-board-meeting/2015-04-13/
CATEGORIES:Town Board
END:VEVENT
BEGIN:VEVENT
DTSTART;TZID=America/Chicago:20150309T190000
DTEND;TZID=America/Chicago:20150309T190000
DTSTAMP:20260423T044224
CREATED:20130115T010000Z
LAST-MODIFIED:20180529T170620Z
UID:10000319-1425927600-1425927600@townofjacksonwi.com
SUMMARY:Town Board Meeting
DESCRIPTION:
URL:https://townofjacksonwi.com/event/town-board-meeting/2015-03-09/
CATEGORIES:Town Board
END:VEVENT
BEGIN:VEVENT
DTSTART;TZID=America/Chicago:20150209T190000
DTEND;TZID=America/Chicago:20150209T190000
DTSTAMP:20260423T044224
CREATED:20130115T010000Z
LAST-MODIFIED:20180529T170620Z
UID:10000318-1423508400-1423508400@townofjacksonwi.com
SUMMARY:Town Board Meeting
DESCRIPTION:
URL:https://townofjacksonwi.com/event/town-board-meeting/2015-02-09/
CATEGORIES:Town Board
END:VEVENT
BEGIN:VEVENT
DTSTART;TZID=America/Chicago:20150112T190000
DTEND;TZID=America/Chicago:20150112T190000
DTSTAMP:20260423T044224
CREATED:20150113T010000Z
LAST-MODIFIED:20150113T010000Z
UID:10000270-1421089200-1421089200@townofjacksonwi.com
SUMMARY:Town Board Caucus & Meeting
DESCRIPTION:
URL:https://townofjacksonwi.com/event/town-board-caucus-meeting/
CATEGORIES:Town Board
END:VEVENT
BEGIN:VEVENT
DTSTART;TZID=America/Chicago:20150112T190000
DTEND;TZID=America/Chicago:20150112T190000
DTSTAMP:20260423T044224
CREATED:20130115T010000Z
LAST-MODIFIED:20180529T170620Z
UID:10000317-1421089200-1421089200@townofjacksonwi.com
SUMMARY:Town Board Meeting
DESCRIPTION:
URL:https://townofjacksonwi.com/event/town-board-meeting/2015-01-12/
CATEGORIES:Town Board
END:VEVENT
BEGIN:VEVENT
DTSTART;TZID=America/Chicago:20141208T190000
DTEND;TZID=America/Chicago:20141208T190000
DTSTAMP:20260423T044224
CREATED:20130115T010000Z
LAST-MODIFIED:20180529T170620Z
UID:10000316-1418065200-1418065200@townofjacksonwi.com
SUMMARY:Town Board Meeting
DESCRIPTION:
URL:https://townofjacksonwi.com/event/town-board-meeting/2014-12-08/
CATEGORIES:Town Board
END:VEVENT
BEGIN:VEVENT
DTSTART;TZID=America/Chicago:20141110T190000
DTEND;TZID=America/Chicago:20141110T190000
DTSTAMP:20260423T044224
CREATED:20130115T010000Z
LAST-MODIFIED:20180529T170620Z
UID:10000315-1415646000-1415646000@townofjacksonwi.com
SUMMARY:Town Board Meeting
DESCRIPTION:
URL:https://townofjacksonwi.com/event/town-board-meeting/2014-11-10/
CATEGORIES:Town Board
END:VEVENT
BEGIN:VEVENT
DTSTART;TZID=America/Chicago:20141013T190000
DTEND;TZID=America/Chicago:20141013T190000
DTSTAMP:20260423T044224
CREATED:20130115T010000Z
LAST-MODIFIED:20180529T170620Z
UID:10000314-1413226800-1413226800@townofjacksonwi.com
SUMMARY:Town Board Meeting
DESCRIPTION:
URL:https://townofjacksonwi.com/event/town-board-meeting/2014-10-13/
CATEGORIES:Town Board
END:VEVENT
BEGIN:VEVENT
DTSTART;TZID=America/Chicago:20140908T190000
DTEND;TZID=America/Chicago:20140908T190000
DTSTAMP:20260423T044224
CREATED:20130115T010000Z
LAST-MODIFIED:20180529T170620Z
UID:10000313-1410202800-1410202800@townofjacksonwi.com
SUMMARY:Town Board Meeting
DESCRIPTION:
URL:https://townofjacksonwi.com/event/town-board-meeting/2014-09-08/
CATEGORIES:Town Board
END:VEVENT
BEGIN:VEVENT
DTSTART;TZID=America/Chicago:20140811T190000
DTEND;TZID=America/Chicago:20140811T190000
DTSTAMP:20260423T044224
CREATED:20130115T010000Z
LAST-MODIFIED:20180529T170620Z
UID:10000312-1407783600-1407783600@townofjacksonwi.com
SUMMARY:Town Board Meeting
DESCRIPTION:
URL:https://townofjacksonwi.com/event/town-board-meeting/2014-08-11/
CATEGORIES:Town Board
END:VEVENT
BEGIN:VEVENT
DTSTART;TZID=America/Chicago:20140714T190000
DTEND;TZID=America/Chicago:20140714T190000
DTSTAMP:20260423T044224
CREATED:20130115T010000Z
LAST-MODIFIED:20180529T170620Z
UID:10000311-1405364400-1405364400@townofjacksonwi.com
SUMMARY:Town Board Meeting
DESCRIPTION:
URL:https://townofjacksonwi.com/event/town-board-meeting/2014-07-14/
CATEGORIES:Town Board
END:VEVENT
BEGIN:VEVENT
DTSTART;TZID=America/Chicago:20140609T190000
DTEND;TZID=America/Chicago:20140609T190000
DTSTAMP:20260423T044224
CREATED:20130115T010000Z
LAST-MODIFIED:20180529T170620Z
UID:10000310-1402340400-1402340400@townofjacksonwi.com
SUMMARY:Town Board Meeting
DESCRIPTION:
URL:https://townofjacksonwi.com/event/town-board-meeting/2014-06-09/
CATEGORIES:Town Board
END:VEVENT
BEGIN:VEVENT
DTSTART;TZID=America/Chicago:20140515T170000
DTEND;TZID=America/Chicago:20140515T190000
DTSTAMP:20260423T044224
CREATED:20140515T220000Z
LAST-MODIFIED:20140515T220000Z
UID:10000273-1400173200-1400180400@townofjacksonwi.com
SUMMARY:Board of Review
DESCRIPTION:
URL:https://townofjacksonwi.com/event/board-of-review-3/
CATEGORIES:Town Board
END:VEVENT
BEGIN:VEVENT
DTSTART;TZID=America/Chicago:20140515T150000
DTEND;TZID=America/Chicago:20140515T170000
DTSTAMP:20260423T044224
CREATED:20140515T200000Z
LAST-MODIFIED:20140515T200000Z
UID:10000272-1400166000-1400173200@townofjacksonwi.com
SUMMARY:Open Book
DESCRIPTION:
URL:https://townofjacksonwi.com/event/open-book-3/
CATEGORIES:Town Board
END:VEVENT
BEGIN:VEVENT
DTSTART;TZID=America/Chicago:20140512T190000
DTEND;TZID=America/Chicago:20140512T190000
DTSTAMP:20260423T044224
CREATED:20130115T010000Z
LAST-MODIFIED:20180529T170620Z
UID:10000309-1399921200-1399921200@townofjacksonwi.com
SUMMARY:Town Board Meeting
DESCRIPTION:
URL:https://townofjacksonwi.com/event/town-board-meeting/2014-05-12/
CATEGORIES:Town Board
END:VEVENT
BEGIN:VEVENT
DTSTART;TZID=America/Chicago:20140428T190000
DTEND;TZID=America/Chicago:20140428T200000
DTSTAMP:20260423T044224
CREATED:20140429T000000Z
LAST-MODIFIED:20140429T000000Z
UID:10000259-1398711600-1398715200@townofjacksonwi.com
SUMMARY:Annual Town Meeting
DESCRIPTION:Venue: Town Hall
URL:https://townofjacksonwi.com/event/annual-town-meeting-4/
CATEGORIES:Town Board
END:VEVENT
BEGIN:VEVENT
DTSTART;TZID=America/Chicago:20140414T190000
DTEND;TZID=America/Chicago:20140414T190000
DTSTAMP:20260423T044224
CREATED:20130115T010000Z
LAST-MODIFIED:20180529T170620Z
UID:10000308-1397502000-1397502000@townofjacksonwi.com
SUMMARY:Town Board Meeting
DESCRIPTION:
URL:https://townofjacksonwi.com/event/town-board-meeting/2014-04-14/
CATEGORIES:Town Board
END:VEVENT
BEGIN:VEVENT
DTSTART;TZID=America/Chicago:20140310T190000
DTEND;TZID=America/Chicago:20140310T190000
DTSTAMP:20260423T044224
CREATED:20130115T010000Z
LAST-MODIFIED:20180529T170620Z
UID:10000307-1394478000-1394478000@townofjacksonwi.com
SUMMARY:Town Board Meeting
DESCRIPTION:
URL:https://townofjacksonwi.com/event/town-board-meeting/2014-03-10/
CATEGORIES:Town Board
END:VEVENT
BEGIN:VEVENT
DTSTART;TZID=America/Chicago:20140210T190000
DTEND;TZID=America/Chicago:20140210T190000
DTSTAMP:20260423T044224
CREATED:20130115T010000Z
LAST-MODIFIED:20180529T170620Z
UID:10000306-1392058800-1392058800@townofjacksonwi.com
SUMMARY:Town Board Meeting
DESCRIPTION:
URL:https://townofjacksonwi.com/event/town-board-meeting/2014-02-10/
CATEGORIES:Town Board
END:VEVENT
BEGIN:VEVENT
DTSTART;TZID=America/Chicago:20140113T190000
DTEND;TZID=America/Chicago:20140113T190000
DTSTAMP:20260423T044224
CREATED:20130115T010000Z
LAST-MODIFIED:20180529T170620Z
UID:10000305-1389639600-1389639600@townofjacksonwi.com
SUMMARY:Town Board Meeting
DESCRIPTION:
URL:https://townofjacksonwi.com/event/town-board-meeting/2014-01-13/
CATEGORIES:Town Board
END:VEVENT
BEGIN:VEVENT
DTSTART;TZID=America/Chicago:20131209T190000
DTEND;TZID=America/Chicago:20131209T190000
DTSTAMP:20260423T044224
CREATED:20130115T010000Z
LAST-MODIFIED:20180529T170620Z
UID:10000304-1386615600-1386615600@townofjacksonwi.com
SUMMARY:Town Board Meeting
DESCRIPTION:
URL:https://townofjacksonwi.com/event/town-board-meeting/2013-12-09/
CATEGORIES:Town Board
END:VEVENT
BEGIN:VEVENT
DTSTART;TZID=America/Chicago:20131111T190000
DTEND;TZID=America/Chicago:20131111T190000
DTSTAMP:20260423T044224
CREATED:20130115T010000Z
LAST-MODIFIED:20180529T170620Z
UID:10000303-1384196400-1384196400@townofjacksonwi.com
SUMMARY:Town Board Meeting
DESCRIPTION:
URL:https://townofjacksonwi.com/event/town-board-meeting/2013-11-11/
CATEGORIES:Town Board
END:VEVENT
BEGIN:VEVENT
DTSTART;TZID=America/Chicago:20131111T183000
DTEND;TZID=America/Chicago:20131111T183000
DTSTAMP:20260423T044224
CREATED:20131112T003000Z
LAST-MODIFIED:20131112T003000Z
UID:10000282-1384194600-1384194600@townofjacksonwi.com
SUMMARY:Budget Hearing
DESCRIPTION:
URL:https://townofjacksonwi.com/event/budget-hearing/
CATEGORIES:Town Board
END:VEVENT
BEGIN:VEVENT
DTSTART;TZID=America/Chicago:20131014T190000
DTEND;TZID=America/Chicago:20131014T190000
DTSTAMP:20260423T044224
CREATED:20130115T010000Z
LAST-MODIFIED:20180529T170620Z
UID:10000302-1381777200-1381777200@townofjacksonwi.com
SUMMARY:Town Board Meeting
DESCRIPTION:
URL:https://townofjacksonwi.com/event/town-board-meeting/2013-10-14/
CATEGORIES:Town Board
END:VEVENT
BEGIN:VEVENT
DTSTART;TZID=America/Chicago:20130909T190000
DTEND;TZID=America/Chicago:20130909T190000
DTSTAMP:20260423T044224
CREATED:20130115T010000Z
LAST-MODIFIED:20180529T170620Z
UID:10000301-1378753200-1378753200@townofjacksonwi.com
SUMMARY:Town Board Meeting
DESCRIPTION:
URL:https://townofjacksonwi.com/event/town-board-meeting/2013-09-09/
CATEGORIES:Town Board
END:VEVENT
END:VCALENDAR