BEGIN:VCALENDAR
VERSION:2.0
PRODID:-//Town of Jackson, Burnett County, Wisconsin - ECPv6.15.17.1//NONSGML v1.0//EN
CALSCALE:GREGORIAN
METHOD:PUBLISH
X-WR-CALNAME:Town of Jackson, Burnett County, Wisconsin
X-ORIGINAL-URL:https://townofjacksonwi.com
X-WR-CALDESC:Events for Town of Jackson, Burnett County, Wisconsin
REFRESH-INTERVAL;VALUE=DURATION:PT1H
X-Robots-Tag:noindex
X-PUBLISHED-TTL:PT1H
BEGIN:VTIMEZONE
TZID:America/Chicago
BEGIN:DAYLIGHT
TZOFFSETFROM:-0600
TZOFFSETTO:-0500
TZNAME:CDT
DTSTART:20230312T080000
END:DAYLIGHT
BEGIN:STANDARD
TZOFFSETFROM:-0500
TZOFFSETTO:-0600
TZNAME:CST
DTSTART:20231105T070000
END:STANDARD
BEGIN:DAYLIGHT
TZOFFSETFROM:-0600
TZOFFSETTO:-0500
TZNAME:CDT
DTSTART:20240310T080000
END:DAYLIGHT
BEGIN:STANDARD
TZOFFSETFROM:-0500
TZOFFSETTO:-0600
TZNAME:CST
DTSTART:20241103T070000
END:STANDARD
BEGIN:DAYLIGHT
TZOFFSETFROM:-0600
TZOFFSETTO:-0500
TZNAME:CDT
DTSTART:20250309T080000
END:DAYLIGHT
BEGIN:STANDARD
TZOFFSETFROM:-0500
TZOFFSETTO:-0600
TZNAME:CST
DTSTART:20251102T070000
END:STANDARD
END:VTIMEZONE
BEGIN:VEVENT
DTSTART;TZID=America/Chicago:20240408T080000
DTEND;TZID=America/Chicago:20240408T170000
DTSTAMP:20260419T155644
CREATED:20240324T194835Z
LAST-MODIFIED:20240324T194835Z
UID:10001178-1712563200-1712595600@townofjacksonwi.com
SUMMARY:Building Construction Begins
DESCRIPTION:Construction of the new Highway Building and addition to the Fire Department will begin on April 8.
URL:https://townofjacksonwi.com/event/building-construction-begins/
CATEGORIES:Community Events
END:VEVENT
BEGIN:VEVENT
DTSTART;TZID=America/Chicago:20240415T143000
DTEND;TZID=America/Chicago:20240415T163000
DTSTAMP:20260419T155644
CREATED:20240313T222938Z
LAST-MODIFIED:20240313T222938Z
UID:10001174-1713191400-1713198600@townofjacksonwi.com
SUMMARY:Open Book with Town Assesor
DESCRIPTION:
URL:https://townofjacksonwi.com/event/open-book-with-town-assesor/
CATEGORIES:Community Events
END:VEVENT
BEGIN:VEVENT
DTSTART;TZID=America/Chicago:20240422T153000
DTEND;TZID=America/Chicago:20240422T173000
DTSTAMP:20260419T155644
CREATED:20240313T223110Z
LAST-MODIFIED:20240313T223110Z
UID:10001175-1713799800-1713807000@townofjacksonwi.com
SUMMARY:Board of Review
DESCRIPTION:
URL:https://townofjacksonwi.com/event/board-of-review-11/
CATEGORIES:Community Events
END:VEVENT
BEGIN:VEVENT
DTSTART;TZID=America/Chicago:20240422T190000
DTEND;TZID=America/Chicago:20240422T200000
DTSTAMP:20260419T155644
CREATED:20240313T223334Z
LAST-MODIFIED:20240313T223334Z
UID:10001176-1713812400-1713816000@townofjacksonwi.com
SUMMARY:ANNUAL TOWN BOARD MEETING
DESCRIPTION:All tpwn residents are invited to attend this meeting to find out what is going on in your town.
URL:https://townofjacksonwi.com/event/annual-town-board-meeting/
CATEGORIES:Community Events
END:VEVENT
END:VCALENDAR